BEGIN:VCALENDAR
VERSION:2.0
PRODID:-//B&uuml;ndnis Unterschlei&szlig;heim f&uuml;r Demokratie und Vielfalt - ECPv6.15.20//NONSGML v1.0//EN
CALSCALE:GREGORIAN
METHOD:PUBLISH
X-ORIGINAL-URL:https://ush-ist-bunt.de
X-WR-CALDESC:Veranstaltungen für B&uuml;ndnis Unterschlei&szlig;heim f&uuml;r Demokratie und Vielfalt
REFRESH-INTERVAL;VALUE=DURATION:PT1H
X-Robots-Tag:noindex
X-PUBLISHED-TTL:PT1H
BEGIN:VTIMEZONE
TZID:UTC
BEGIN:STANDARD
TZOFFSETFROM:+0000
TZOFFSETTO:+0000
TZNAME:UTC
DTSTART:20230101T000000
END:STANDARD
END:VTIMEZONE
BEGIN:VEVENT
DTSTART;TZID=UTC:20260209T200000
DTEND;TZID=UTC:20260209T220000
DTSTAMP:20260420T112203
CREATED:20260201T064716Z
LAST-MODIFIED:20260201T064816Z
UID:297-1770667200-1770674400@ush-ist-bunt.de
SUMMARY:Reden wir über..."Was macht KI mit unserer Demokratie?"
DESCRIPTION:Wir laden herzlich zur nächsten Veranstaltung unserer Diskussionsreihe:„Reden wir über …“ ein\, die wir wie immer in Kooperation mit der Evangelisch-Lutherische Kirchengemeinde Unterschleißheim durchführen. Diesmal zu einem sehr aktuellen Themenkomplex: \n\n\n\n🤖Reden wir über…„Was macht KI mit unserer Demokratie?“ \n\n\n\n🧠 Künstliche Intelligenz beeinflusst längst\, wie Informationen entstehen\, verbreitet und bewertet werden – und damit auch politische Meinungsbildung und demokratische Prozesse. Gemeinsam mit Euch / mit Ihnen möchten wir hinschauen\, nachfragen und diskutieren\, welche Auswirkungen das heute und in Zukunft hat. \n\n\n\n🎤 Als Impulsgeber begrüßen wirM. Sc. Raphael Ronge von der Hochschule für Philosophie München\,der das Thema aus philosophischer und gesellschaftlicher Perspektive beleuchtet. \n\n\n\n🗓 Termin: Montag\, 9. Februar 2026\, 20 Uhr📍 Ort: Genezareth-Haus\, Alleestraße 57\, Unterschleißheim \n\n\n\n👥 Ob mit Vorwissen oder einfach aus Interesse: Eure und Ihre Perspektiven\, Erfahrungen und Fragen sind ausdrücklich willkommen. Ziel ist ein offenes Gespräch in respektvoller Atmosphäre – ganz im Sinne unserer Reihe „Reden wir über …“. \n\n\n\n✨ Wir freuen uns auf eine zahlreiche Teilnahme und einen spannenden Abend!
URL:https://ush-ist-bunt.de/event/reden-wir-ueber-was-macht-ki-mit-unserer-demokratie/
END:VEVENT
BEGIN:VEVENT
DTSTART;TZID=UTC:20251027T200000
DTEND;TZID=UTC:20251027T220000
DTSTAMP:20260420T112203
CREATED:20250917T080900Z
LAST-MODIFIED:20250917T080901Z
UID:239-1761595200-1761602400@ush-ist-bunt.de
SUMMARY:Reden wir über
DESCRIPTION:In Kooperation mit der Evangelischen Kirchengemeinde Unterschleißheim laden wir zu unserer Gesprächsreihe „Reden wir über…“ein. \n\n\n\nDas genaue Thema wird demnächst bekannt gegeben. \n\n\n\n Montag\, 27. Oktober 20:00 Uhr\, Genezareth-Haus\, Alleestraße 57
URL:https://ush-ist-bunt.de/event/reden-wir-ueber/
END:VEVENT
BEGIN:VEVENT
DTSTART;TZID=UTC:20250928T180000
DTEND;TZID=UTC:20250928T213000
DTSTAMP:20260420T112203
CREATED:20250917T080649Z
LAST-MODIFIED:20250917T080953Z
UID:237-1759082400-1759095000@ush-ist-bunt.de
SUMMARY:Fest der Vielfalt (USH begeistert)
DESCRIPTION:Wir feiern die Vielfalt mit spannenden Gesprächen\, Musik\, köstlichem Essen und viel Gelegenheit zum Austausch. Ein Tag voller Kultur\, Gemeinschaft und gelebter Diversität. \n\n\n\nEin reichhaltiges Buffet steht zur Verfügung\, Getränke müssen eigenständig erworben werden. \n\n\n\nFreut euch auf ein buntes Rahmenprogramm u.a. mit der Band „Farbfilter“. \n\n\n\nSonntag\, 28.09.2025 um 18:00 Uhr im Festsaal des Bürgerhauses\, Rathausplatz 1\, 85716 Unterschleißheim.
URL:https://ush-ist-bunt.de/event/fest-der-vielfalt-ush-begeistert/
END:VEVENT
BEGIN:VEVENT
DTSTART;TZID=UTC:20250721T200000
DTEND;TZID=UTC:20250721T220000
DTSTAMP:20260420T112203
CREATED:20250705T092030Z
LAST-MODIFIED:20250705T092030Z
UID:148-1753128000-1753135200@ush-ist-bunt.de
SUMMARY:Reden wir über: „Demokratie ohne Jugend?“ – Warum Jugendliche gehört werden müssen
DESCRIPTION:In Kooperation mit der Evangelischen Kirchengemeinde Unterschleißheim laden wir zu unserer Gesprächsreihe „Reden wir über…“ein. \n🗣️Reden wir über: „Demokratie ohne Jugend?“ – Warum Jugendliche gehört werden müssen  \nMit Lena Schuster Kommunale Jugendpflegerin Landkreis München \nWie steht es um die politische Teilhabe junger Menschen?\nGemeinsam mit unserer Expertin wollen wir über Beteiligung\, Perspektiven und Herausforderungen sprechen. \n📍 Montag\, 21. Juli 20:00 Uhr\, Genezareth-Haus\, Alleestraße 57
URL:https://ush-ist-bunt.de/event/reden-wir-ueber-demokratie-ohne-jugend-warum-jugendliche-gehoert-werden-muessen/
END:VEVENT
BEGIN:VEVENT
DTSTART;TZID=UTC:20250706T093000
DTEND;TZID=UTC:20250706T143000
DTSTAMP:20260420T112203
CREATED:20250705T085513Z
LAST-MODIFIED:20250705T090633Z
UID:129-1751794200-1751812200@ush-ist-bunt.de
SUMMARY:Radeln für Demokratie nach Ismaning
DESCRIPTION:In Kooperation mit dem ADFC laden wir herzlich zum Demokratieradeln ein!\nWir fahren gemeinsam auf einer leichten Strecke (ca. 12\,4 km) von Unterschleißheim nach Ismaning. Dort erwartet uns eine ca. 5 km lange Rundfahrt durch Ismaning mit spannenden Stationen zur Geschichte\, Bürgerbeteiligung und Demokratie. An jeder Station gibt es kurze Impulse und interessante Einblicke. \nAnschließend lassen wir die Tour gemütlich in einem Biergarten oder beim Tag der offenen Tür der Ismaninger Feuerwehr ausklingen. Die Rückfahrt erfolgt in eigener Verantwortung oder gemeinsam auf einer Route von 12 bis 20 km – das klären wir vor Ort. \n📍 Treffpunkt: Sonntag\, 06. Juli um 9:30 Uhr am Kugelbrunnen auf dem Rathausplatz Unterschleißheim \n🔗 Weitere Infos: https://touren-termine.adfc.de/radveranstaltung/168824-radlen-fur-demokratie-nach-ismaning
URL:https://ush-ist-bunt.de/event/radeln-fuer-demokratie-nach-ismaning/
END:VEVENT
BEGIN:VEVENT
DTSTART;TZID=UTC:20250207T180000
DTEND;TZID=UTC:20250207T190000
DTSTAMP:20260420T112203
CREATED:20250728T144832Z
LAST-MODIFIED:20250728T144901Z
UID:192-1738951200-1738954800@ush-ist-bunt.de
SUMMARY:Ein leuchtendes Zeichen für Zusammenhalt: Lichterkette auf dem Unterschleißheimer Rathausplatz
DESCRIPTION:Ein bewegendes Zeichen der Solidarität und des gesellschaftlichen Miteinanders: Am letzten Freitag 7.02.25\, versammelten mehr als 300 Bürgerinnen und Bürger auf dem Unterschleißheimer Rathauspatz\, um gemeinsam ein Licht in die Dunkelheit zu bringen. Unter dem Motto „Unsere Stadt bleibt hell“ setzte die Lichterkette ein klares Zeichen für Demokratie\, Vielfalt und den respektvollen Dialog. \n\n\n\nDie Veranstaltung begann mit einer Begrüßung durch die Organisatorinnen und wurde durch ein vielseitiges Programm aus Musik\, Poetry-Slam und Redebeiträgen bereichert. Bürgermeister Böck erinnerte in seiner Rede an die Bedeutung von Zusammenhalt und sprach sich entschieden gegen Ausgrenzung und Spaltung aus: „Unterschleißheim bleibt hell\, weil wir als Gemeinschaft füreinander einstehen. Lasst uns gemeinsam die wahren Demokratiefeinde abwehren\, liebe Demokratinnen und Demokratien“ \n\n\n\nAuch Mirjam Pfeiffer\, die als Pfarrerin sprach\, betonte die Verantwortung jedes Einzelnen\, Licht in die Gesellschaft zu bringen: „Wir sind das Licht der Welt. Lassen wir es leuchten für uns und für andere.“ \n\n\n\nMusikalische Beiträge sowie nachdenkliche Texte von lokalen Künstlerinnen und Künstlern schufen eine Atmosphäre\, die gleichermaßen zum Nachdenken anregte und Hoffnung vermittelte. Die Veranstaltung endete mit dem gemeinsamen Lied „Lichterketten leuchten“\, das noch lange in den Herzen der Teilnehmenden nachklang. \n\n\n\nDie Organisatoren vom Bündnis Unterschleißheim für Demokratie und Vielfalt zeigten sich erfreut über die hohe Beteiligung und die positive Resonanz. „Diese Lichterkette war ein starkes Zeichen gegen Dunkelheit und Spaltung. Sie hat gezeigt\, dass Unterschleißheim eine Stadt des Miteinanders ist“\, so eine der Initiatorinnen. \n\n\n\nDie Lichterkette hat bewiesen\, dass Licht stärker ist als Dunkelheit – und dass es auf jede und jeden Einzelnen ankommt\, dieses Licht weiterzutragen.
URL:https://ush-ist-bunt.de/event/ein-leuchtendes-zeichen-fuer-zusammenhalt-lichterkette-auf-dem-unterschleissheimer-rathausplatz/
END:VEVENT
BEGIN:VEVENT
DTSTART;TZID=UTC:20250108T080000
DTEND;TZID=UTC:20250122T170000
DTSTAMP:20260420T112203
CREATED:20250917T084043Z
LAST-MODIFIED:20250917T084044Z
UID:258-1736323200-1737565200@ush-ist-bunt.de
SUMMARY:Infostände zur Bundestagswahl
DESCRIPTION:Das Bündnis „Unterschleißheim für Demokratie und Vielfalt ermutigt alle Bürgerinnen und Bürger ihr demokratisches Recht auszuüben und an der Bundestagswahl teilzunehmen. Jede Stimme für eine demokratische Partei ist eine Stimme für Vielfalt\, Toleranz und ein friedliches Miteinander.
URL:https://ush-ist-bunt.de/event/infostaende-zur-bundestagswahl/
END:VEVENT
BEGIN:VEVENT
DTSTART;TZID=UTC:20241207T150000
DTEND;TZID=UTC:20241207T210000
DTSTAMP:20260420T112203
CREATED:20250728T145135Z
LAST-MODIFIED:20250728T145136Z
UID:197-1733583600-1733605200@ush-ist-bunt.de
SUMMARY:Bündnis Unterschleißheim für Demokratie und Vielfalt auf dem Weihnachtsmarkt
DESCRIPTION:Am Samstag\, den 07. Dezember war das Bündnis Unterschleißheim für Demokratie und Vielfalt mit einem Stand auf dem Weihnachtsmarkt am Rathausplatz vertreten. In festlicher Atmosphäre nutzten die engagierten Mitglieder die Gelegenheit\, die Bürgerinnen und Bürger über ihre Arbeit und Ziele zu informieren. \n\n\n\nBesonders großer Beliebtheit erfreuten sich die kreativen „Demokratie-Plätzchen“\, die eigens für diesen Anlass von engagierten Bäckerinnen und Bäckern zubereitet wurden. Die Plätzchen wurden kostenfrei an interessierte Besucherinnen und Besucher verteilt und sorgten für gute Gespräche über die Bedeutung von Vielfalt und Toleranz. \n\n\n\nNeben den Plätzchen fanden auch Buttons mit dem Logo des Bündnisses und die selbstgemachten Pralinen großen Anklang. Viele Interessierte nutzten die Gelegenheit\, sich näher über die Aktivitäten des Bündnisses zu informieren und kamen mit den Mitgliedern ins Gespräch. \n\n\n\nDas Bündnis setzt sich für eine offene Gesellschaft\, kulturelle Vielfalt und den Schutz demokratischer Werte ein. „Wir wollen Unterschleißheim als Ort des Zusammenhalts stärken und zeigen\, dass unsere Stadt bunt ist“\, betonte ein Mitglied vor Ort. \n\n\n\nDer Info-Stand war ein voller Erfolg und eine Bereicherung für den Weihnachtsmarkt. Das Bündnis freut sich\, auch in Zukunft mit weiteren Aktionen die Menschen in Unterschleißheim für Demokratie und Vielfalt zu begeistern.
URL:https://ush-ist-bunt.de/event/buendnis-unterschleissheim-fuer-demokratie-und-vielfalt-auf-dem-weihnachtsmarkt/
END:VEVENT
BEGIN:VEVENT
DTSTART;TZID=UTC:20240217T160000
DTEND;TZID=UTC:20240217T180000
DTSTAMP:20260420T112203
CREATED:20250917T083706Z
LAST-MODIFIED:20250917T083826Z
UID:253-1708185600-1708192800@ush-ist-bunt.de
SUMMARY:Kundgebung "Unterschleißheim ist bunt"
DESCRIPTION:
URL:https://ush-ist-bunt.de/event/kundgebung-unterschleissheim-ist-bunt/
END:VEVENT
END:VCALENDAR